BEGIN:VCALENDAR
VERSION:2.0
PRODID:-//ChamberMaster//Event Calendar 2.0//EN
METHOD:PUBLISH
X-PUBLISHED-TTL:P1H
REFRESH-INTERVAL:P1H
CALSCALE:GREGORIAN
BEGIN:VTIMEZONE
TZID:America/Los_Angeles
BEGIN:DAYLIGHT
RRULE:FREQ=YEARLY;BYMONTH=3;BYDAY=2SU
DTSTART:20070101T000000
TZOFFSETFROM:-0800
TZOFFSETTO:-0700
TZNAME:Pacific Daylight Time
END:DAYLIGHT
BEGIN:STANDARD
RRULE:FREQ=YEARLY;BYMONTH=11;BYDAY=1SU
DTSTART:20070101T000000
TZOFFSETFROM:-0700
TZOFFSETTO:-0800
TZNAME:Pacific Standard Time
END:STANDARD
END:VTIMEZONE
BEGIN:VEVENT
DTSTART;TZID=America/Los_Angeles:20260520T073000
DTEND;TZID=America/Los_Angeles:20260520T170000
X-MICROSOFT-CDO-ALLDAYEVENT:FALSE
SUMMARY:25th Annual May Legal Seminar
DESCRIPTION:Join us for networking from 7:30am-8:00am and Program from 8:00am-5:00pmJoin us for Rogue Valley SHRM's May Legal Seminar\, a must-attend event for HR professionals\, business leaders\, and managers navigating the complex and ever-changing landscape of employment law in Oregon.https://www.eventbrite.com/e/25th-annual-may-legal-seminar-tickets-1983974757908?aff=oddtdtcreator#location\n🔍 What to Expect:Topics to IncludeI-9 audits and ICE raidsLegislative Update\, including One Big Beautiful Bill implicationsReasonable Accommodation\, Unreasonable Expectations\, and other ADA Accommodation Sticking PointsStrategies When Responding to Administrative ComplaintsHR Issues Surrounding Use of Artificial IntelligenceBreakdown of Most Common Lawsuits/Legal Claims Being Filed Against Employers and Ways to Avoid Those Claims\n🎯 Who Should Attend:HR ProfessionalsBusiness Owners & ExecutivesManagers & SupervisorsLegal & Compliance PersonnelAnyone responsible for employee relations or HR strategy\n🎟 Seats are limited   register today and stay ahead of the curve!🍽 We've got you covered   breakfast and lunch will be provided!
X-ALT-DESC;FMTTYPE=text/html:<!DOCTYPE html><html><head><title></title></head><body aria-disabled="false"><div data-testid="text-content" style='box-sizing: border-box\; padding: 0px\; margin: 0px\; color: rgb(88\, 81\, 99)\; align-self: stretch\; overflow: hidden\; text-overflow: ellipsis\; font-weight: 400\; line-height: 23.94px\; letter-spacing: 0.1px\; font-size: 18px\; font-family: "Neue Plak"\, -apple-system\, BlinkMacSystemFont\, Roboto\, "Helvetica Neue"\, Helvetica\, Tahoma\, Arial\, sans-serif\; font-style: normal\; font-variant-ligatures: normal\; font-variant-caps: normal\; orphans: 2\; text-align: start\; text-indent: 0px\; text-transform: none\; widows: 2\; word-spacing: 0px\; -webkit-text-stroke-width: 0px\; white-space: normal\; text-decoration-thickness: initial\; text-decoration-style: initial\; text-decoration-color: initial\;'><div style="box-sizing: border-box\; padding: 0px\; margin: 0px\;"><p style="box-sizing: border-box\; padding: 0px 0px 12px\; margin: 0px\;">Join us for networking from 7:30am-8:00am and Program from 8:00am-5:00pm</p></div></div><div data-testid="text-content" style='box-sizing: border-box\; padding: 0px\; margin: 0px\; color: rgb(88\, 81\, 99)\; align-self: stretch\; overflow: hidden\; text-overflow: ellipsis\; font-weight: 400\; line-height: 23.94px\; letter-spacing: 0.1px\; font-size: 18px\; font-family: "Neue Plak"\, -apple-system\, BlinkMacSystemFont\, Roboto\, "Helvetica Neue"\, Helvetica\, Tahoma\, Arial\, sans-serif\; font-style: normal\; font-variant-ligatures: normal\; font-variant-caps: normal\; orphans: 2\; text-align: start\; text-indent: 0px\; text-transform: none\; widows: 2\; word-spacing: 0px\; -webkit-text-stroke-width: 0px\; white-space: normal\; text-decoration-thickness: initial\; text-decoration-style: initial\; text-decoration-color: initial\;'><div style="box-sizing: border-box\; padding: 0px\; margin: 0px\;"><p style="box-sizing: border-box\; padding: 0px 0px 12px\; margin: 0px\;">Join us for Rogue Valley SHRM&#39\;s&nbsp\;<strong fr-original-style="box-sizing: border-box\; padding: 0px\; margin: 0px\; font-weight: 600\;" style="box-sizing: border-box\; padding: 0px\; margin: 0px\; font-weight: 600\;"><strong fr-original-style="box-sizing: border-box\; padding: 0px\; margin: 0px\; font-weight: 600\;" style="box-sizing: border-box\; padding: 0px\; margin: 0px\; font-weight: 600\;">May Legal Seminar</strong></strong>\, a must-attend event for HR professionals\, business leaders\, and managers navigating the complex and ever-changing landscape of employment law in Oregon.</p><p style="box-sizing: border-box\; padding: 0px 0px 12px\; margin: 12px 0px 0px\;"><a fr-original-style="" href="https://www.eventbrite.com/e/25th-annual-may-legal-seminar-tickets-1983974757908?aff=oddtdtcreator#location" style="user-select: auto\;">https://www.eventbrite.com/e/25th-annual-may-legal-seminar-tickets-1983974757908?aff=oddtdtcreator#location</a></p><p style="box-sizing: border-box\; padding: 0px 0px 12px\; margin: 12px 0px 0px\;"><br style="box-sizing: border-box\; padding: 0px\; margin: 0px\;"></p><h3 style="box-sizing: border-box\; padding: 0px\; margin: 12px 0px 0px\; font-weight: 600\; font-size: 20px\;">🔍 What to Expect:</h3><p style="box-sizing: border-box\; padding: 0px 0px 12px\; margin: 12px 0px 0px\;">Topics to Include</p><ul fr-original-style="box-sizing: border-box\; padding: 0px 0px 0px 32px\; margin: 12px 0px 0px\;" style="box-sizing: border-box\; padding: 0px 0px 0px 32px\; margin: 12px 0px 0px\; list-style-position: inside\;"><li style="box-sizing: border-box\; padding: 0px 0px 12px\; margin: 0px\;">I-9 audits and ICE raids</li><li style="box-sizing: border-box\; padding: 0px 0px 12px\; margin: 4px 0px 0px\;">Legislative Update\, including One Big Beautiful Bill implications</li><li style="box-sizing: border-box\; padding: 0px 0px 12px\; margin: 4px 0px 0px\;">Reasonable Accommodation\, Unreasonable Expectations\, and other ADA Accommodation Sticking Points</li><li style="box-sizing: border-box\; padding: 0px 0px 12px\; margin: 4px 0px 0px\;">Strategies When Responding to Administrative Complaints</li><li style="box-sizing: border-box\; padding: 0px 0px 12px\; margin: 4px 0px 0px\;">HR Issues Surrounding Use of Artificial Intelligence</li><li style="box-sizing: border-box\; padding: 0px 0px 12px\; margin: 4px 0px 0px\;">Breakdown of Most Common Lawsuits/Legal Claims Being Filed Against Employers and Ways to Avoid Those Claims</li></ul><p style="box-sizing: border-box\; padding: 0px 0px 12px\; margin: 12px 0px 0px\;"><br style="box-sizing: border-box\; padding: 0px\; margin: 0px\;"></p><h3 style="box-sizing: border-box\; padding: 0px\; margin: 12px 0px 0px\; font-weight: 600\; font-size: 20px\;">🎯 Who Should Attend:</h3><ul fr-original-style="box-sizing: border-box\; padding: 0px 0px 0px 32px\; margin: 12px 0px 0px\;" style="box-sizing: border-box\; padding: 0px 0px 0px 32px\; margin: 12px 0px 0px\; list-style-position: inside\;"><li style="box-sizing: border-box\; padding: 0px 0px 12px\; margin: 0px\;">HR Professionals</li><li style="box-sizing: border-box\; padding: 0px 0px 12px\; margin: 4px 0px 0px\;">Business Owners &amp\; Executives</li><li style="box-sizing: border-box\; padding: 0px 0px 12px\; margin: 4px 0px 0px\;">Managers &amp\; Supervisors</li><li style="box-sizing: border-box\; padding: 0px 0px 12px\; margin: 4px 0px 0px\;">Legal &amp\; Compliance Personnel</li><li style="box-sizing: border-box\; padding: 0px 0px 12px\; margin: 4px 0px 0px\;">Anyone responsible for employee relations or HR strategy</li></ul><p style="box-sizing: border-box\; padding: 0px 0px 12px\; margin: 12px 0px 0px\;"><br style="box-sizing: border-box\; padding: 0px\; margin: 0px\;"></p><p style="box-sizing: border-box\; padding: 0px 0px 12px\; margin: 12px 0px 0px\;">🎟&nbsp\;<strong fr-original-style="box-sizing: border-box\; padding: 0px\; margin: 0px\; font-weight: 600\;" style="box-sizing: border-box\; padding: 0px\; margin: 0px\; font-weight: 600\;"><strong fr-original-style="box-sizing: border-box\; padding: 0px\; margin: 0px\; font-weight: 600\;" style="box-sizing: border-box\; padding: 0px\; margin: 0px\; font-weight: 600\;">Seats are limited &ndash\; register today and stay ahead of the curve!</strong></strong></p><p style="box-sizing: border-box\; padding: 0px 0px 12px\; margin: 12px 0px 0px\;">🍽 We&rsquo\;ve got you covered &ndash\;&nbsp\;<strong fr-original-style="box-sizing: border-box\; padding: 0px\; margin: 0px\; font-weight: 600\;" style="box-sizing: border-box\; padding: 0px\; margin: 0px\; font-weight: 600\;"><strong fr-original-style="box-sizing: border-box\; padding: 0px\; margin: 0px\; font-weight: 600\;" style="box-sizing: border-box\; padding: 0px\; margin: 0px\; font-weight: 600\;">breakfast and lunch will be provided</strong></strong>!</p></div></div></body></html>
LOCATION:2800 South Pacific Highway Medford 97501
UID:e.2226.1446471
SEQUENCE:3
DTSTAMP:20260426T004445Z
URL:https://business.klamath.org/events/Details/25th-annual-may-legal-seminar-1713201?sourceTypeId=Hub
END:VEVENT
END:VCALENDAR
