BEGIN:VCALENDAR
VERSION:2.0
PRODID:-//ChamberMaster//Event Calendar 2.0//EN
METHOD:PUBLISH
X-PUBLISHED-TTL:P1H
REFRESH-INTERVAL:P1H
CALSCALE:GREGORIAN
BEGIN:VTIMEZONE
TZID:America/Los_Angeles
BEGIN:DAYLIGHT
RRULE:FREQ=YEARLY;BYMONTH=3;BYDAY=2SU
DTSTART:20070101T000000
TZOFFSETFROM:-0800
TZOFFSETTO:-0700
TZNAME:Pacific Daylight Time
END:DAYLIGHT
BEGIN:STANDARD
RRULE:FREQ=YEARLY;BYMONTH=11;BYDAY=1SU
DTSTART:20070101T000000
TZOFFSETFROM:-0700
TZOFFSETTO:-0800
TZNAME:Pacific Standard Time
END:STANDARD
END:VTIMEZONE
BEGIN:VEVENT
DTSTART;VALUE=DATE:20260517
DTEND;VALUE=DATE:20260518
TRANSP:TRANSPARENT
X-MICROSOFT-CDO-ALLDAYEVENT:TRUE
SUMMARY:Distinguished Gentleman’s Ride – Klamath Falls
DESCRIPTION:Join us in Klamath Falls for the Distinguished Gentleman's Ride\, a global event that brings together riders in classic and vintage style to raise awareness and funds for men's mental health and prostate cancer research.This is not your typical motorcycle event. Known for its refined\, dapper aesthetic and strong sense of community\, riders take to the streets in their finest while supporting a meaningful cause.The ride will take place throughout Klamath Falls\, showcasing the local area and bringing the community together for a unique and memorable experience.Running Y Resort is proud to serve as a basecamp for riders and guests traveling in for the weekend. Whether you're participating or simply want to be part of the atmosphere\, enjoy on-site dining\, golf\, spa amenities\, and a relaxing place to unwind before and after the ride.Riders are encouraged to travel in\, stay the weekend\, and make the most of the experience both on and off the road.Register to ride: https://gentlemansride.comPlanning to attend? Book your stay at Running Y Resort using code GENTLEMAN.
X-ALT-DESC;FMTTYPE=text/html:<!DOCTYPE html><html><head><title></title></head><body aria-disabled="false"><p>Join us in Klamath Falls for the Distinguished Gentleman&rsquo\;s Ride\, a global event that brings together riders in classic and vintage style to raise awareness and funds for men&rsquo\;s mental health and prostate cancer research.</p><p>This is not your typical motorcycle event. Known for its refined\, dapper aesthetic and strong sense of community\, riders take to the streets in their finest while supporting a meaningful cause.</p><p>The ride will take place throughout Klamath Falls\, showcasing the local area and bringing the community together for a unique and memorable experience.</p><p>Running Y Resort is proud to serve as a basecamp for riders and guests traveling in for the weekend. Whether you&#39\;re participating or simply want to be part of the atmosphere\, enjoy on-site dining\, golf\, spa amenities\, and a relaxing place to unwind before and after the ride.</p><p>Riders are encouraged to travel in\, stay the weekend\, and make the most of the experience both on and off the road.</p><p>Register to ride: <a fr-original-style="" href="https://gentlemansride.com" style="user-select: auto\;">https://gentlemansride.com</a></p><p>Planning to attend? Book your stay at Running Y Resort using code GENTLEMAN.</p></body></html>
LOCATION:
UID:e.2226.1443594
SEQUENCE:3
DTSTAMP:20260426T004433Z
URL:https://business.klamath.org/events/Details/distinguished-gentleman-s-ride-klamath-falls-1709827?sourceTypeId=Hub
END:VEVENT
END:VCALENDAR
