BEGIN:VCALENDAR
VERSION:2.0
PRODID:-//ChamberMaster//Event Calendar 2.0//EN
METHOD:PUBLISH
X-PUBLISHED-TTL:P1H
REFRESH-INTERVAL:P1H
CALSCALE:GREGORIAN
BEGIN:VTIMEZONE
TZID:America/Los_Angeles
BEGIN:DAYLIGHT
RRULE:FREQ=YEARLY;BYMONTH=3;BYDAY=2SU
DTSTART:20070101T000000
TZOFFSETFROM:-0800
TZOFFSETTO:-0700
TZNAME:Pacific Daylight Time
END:DAYLIGHT
BEGIN:STANDARD
RRULE:FREQ=YEARLY;BYMONTH=11;BYDAY=1SU
DTSTART:20070101T000000
TZOFFSETFROM:-0700
TZOFFSETTO:-0800
TZNAME:Pacific Standard Time
END:STANDARD
END:VTIMEZONE
BEGIN:VEVENT
DTSTART;TZID=America/Los_Angeles:20260512T080000
DTEND;TZID=America/Los_Angeles:20260512T130000
X-MICROSOFT-CDO-ALLDAYEVENT:FALSE
SUMMARY:How to do Business with Kingsley Field
DESCRIPTION:You're invited to the Kingsley Field Industry Day!Discover real opportunities to grow your business with the Oregon Air National Guard\, the U.S. Air Force\, and City of Klamath Falls. They seek a wide range of contractors- from catering\, janitorial\, HVAC services\, electricians\, asbestos abatement\, and more. If you provide a service\, they may be looking for you. With major construction underway to support the new F-35 mission\, exciting subcontracting opportunities are also available through prime contractors. This is your chance to get in early and be part of a long-term investment in the region. Not sure how to break into government contracting? Our Apex Accelerator team is here to help. We'll guide you through registration in federal\, state\, and city systems and connect you with resources you need to succeed. Don't miss your opportunity to position your business for new contracts at Kingsley Field. Sign up today and take the first step toward working with us. The Industry Day is FREE\, but preregistration is required. Go to our website at: Orapexaccelerator.org
X-ALT-DESC;FMTTYPE=text/html:<!DOCTYPE html><html><head><title></title></head><body aria-disabled="false"><p>You&#39\;re invited to the Kingsley Field Industry Day!</p><p>Discover real opportunities to grow your business with the Oregon Air National Guard\, the U.S. Air Force\, and City of Klamath Falls. They seek a wide range of contractors- from catering\, janitorial\, HVAC services\, electricians\, asbestos abatement\, and more. If you provide a service\, they may be looking for you.&nbsp\;</p><p>With major construction underway to support the new F-35 mission\, exciting subcontracting opportunities are also available through prime contractors. This is your chance to get in early and be part of a long-term investment in the region.&nbsp\;</p><p>Not sure how to break into government contracting? Our Apex Accelerator team is here to help. We&#39\;ll guide you through registration in federal\, state\, and city systems and connect you with resources you need to succeed.&nbsp\;</p><p>Don&#39\;t miss your opportunity to position your business for new contracts at Kingsley Field. Sign up today and take the first step toward working with us.&nbsp\;</p><p>The Industry Day is FREE\, but preregistration is required. Go to our website at: <a fr-original-style="" href="//Orapexaccelerator.org" style="user-select: auto\;">Orapexaccelerator.org</a>&nbsp\;</p></body></html>
LOCATION:7390 S. 6th Street Klamath Falls OR 97603
UID:e.2226.1448613
SEQUENCE:3
DTSTAMP:20260426T004456Z
URL:https://business.klamath.org/events/Details/how-to-do-business-with-kingsley-field-1715645?sourceTypeId=Hub
END:VEVENT
END:VCALENDAR
