BEGIN:VCALENDAR
VERSION:2.0
PRODID:-//ChamberMaster//Event Calendar 2.0//EN
METHOD:PUBLISH
X-PUBLISHED-TTL:P1H
REFRESH-INTERVAL:P1H
CALSCALE:GREGORIAN
BEGIN:VTIMEZONE
TZID:America/Los_Angeles
BEGIN:DAYLIGHT
RRULE:FREQ=YEARLY;BYMONTH=3;BYDAY=2SU
DTSTART:20070101T000000
TZOFFSETFROM:-0800
TZOFFSETTO:-0700
TZNAME:Pacific Daylight Time
END:DAYLIGHT
BEGIN:STANDARD
RRULE:FREQ=YEARLY;BYMONTH=11;BYDAY=1SU
DTSTART:20070101T000000
TZOFFSETFROM:-0700
TZOFFSETTO:-0800
TZNAME:Pacific Standard Time
END:STANDARD
END:VTIMEZONE
BEGIN:VEVENT
DTSTART;TZID=America/Los_Angeles:20260522T090000
DTEND;TZID=America/Los_Angeles:20260522T120000
X-MICROSOFT-CDO-ALLDAYEVENT:FALSE
SUMMARY:Klamath Basin United Way Annual Golf Tournament - CANCELLED
DESCRIPTION:⛳️ Event Update: Golf Tournament CancellationWe regret to share that the 2026 Klamath Basin United Way Golf Tournament scheduled for May 22 has been cancelled.\nWe're incredibly grateful to everyone who showed interest\, supported the event\, and planned to participate. While we're disappointed\, we're already looking ahead to future opportunities to come together and support our community.\nThank you for your continued support of Klamath Basin United Way 💙\nVisit our website at https://unitedwayoftheklamathbasin.org/events\nFor questions or more information\, please email info@uwkf.org or call 541-882-5558
X-ALT-DESC;FMTTYPE=text/html:<!DOCTYPE html><html><head><title></title></head><body aria-disabled="false"><p data-end="306" data-start="257">⛳️ <strong data-end="306" data-start="260" fr-original-style="" style="font-weight: 700\;">Event Update: Golf Tournament Cancellation</strong></p><p data-end="426" data-start="308">We regret to share that the <strong data-end="385" data-start="336" fr-original-style="" style="font-weight: 700\;">2026 Klamath Basin United Way Golf Tournament</strong> scheduled for May 22 has been cancelled.</p><p data-end="426" data-start="308"><br></p><p data-end="657" data-start="428">We&rsquo\;re incredibly grateful to everyone who showed interest\, supported the event\, and planned to participate. While we&rsquo\;re disappointed\, we&rsquo\;re already looking ahead to future opportunities to come together and support our community.</p><p data-end="657" data-start="428"><br></p><p data-end="726" data-start="659">Thank you for your continued support of Klamath Basin United Way 💙</p><p><br></p><p>Visit our website at <a fr-original-style="" href="https://unitedwayoftheklamathbasin.org/events" style="user-select: auto\;">https://unitedwayoftheklamathbasin.org/events</a></p><p><br></p><p>For questions or more information\, please email info@uwkf.org or call 541-882-5558</p><p><br></p><p><br></p></body></html>
LOCATION:Klamath Falls OR 97603
UID:e.2226.1408372
SEQUENCE:3
DTSTAMP:20260426T004531Z
URL:https://business.klamath.org/events/Details/klamath-basin-united-way-annual-golf-tournament-cancelled-1664466?sourceTypeId=Hub
END:VEVENT
END:VCALENDAR
