BEGIN:VCALENDAR
VERSION:2.0
PRODID:-//ChamberMaster//Event Calendar 2.0//EN
METHOD:PUBLISH
X-PUBLISHED-TTL:P1H
REFRESH-INTERVAL:P1H
CALSCALE:GREGORIAN
BEGIN:VTIMEZONE
TZID:America/Los_Angeles
BEGIN:DAYLIGHT
RRULE:FREQ=YEARLY;BYMONTH=3;BYDAY=2SU
DTSTART:20070101T000000
TZOFFSETFROM:-0800
TZOFFSETTO:-0700
TZNAME:Pacific Daylight Time
END:DAYLIGHT
BEGIN:STANDARD
RRULE:FREQ=YEARLY;BYMONTH=11;BYDAY=1SU
DTSTART:20070101T000000
TZOFFSETFROM:-0700
TZOFFSETTO:-0800
TZNAME:Pacific Standard Time
END:STANDARD
END:VTIMEZONE
BEGIN:VEVENT
DTSTART;TZID=America/Los_Angeles:20260510T080000
DTEND;TZID=America/Los_Angeles:20260510T140000
X-MICROSOFT-CDO-ALLDAYEVENT:FALSE
SUMMARY:Mother’s Day Brunch at Running Y Resort
DESCRIPTION:We invite you to enjoy a special Mother's Day brunch at the Ruddy Duck at Running Y Resort\, or a beautifully curated family-style dining experience in The Woodlands Ballroom for larger gatherings.Reservations are required\, and we encourage booking in advance to ensure availability.For brunch reservations of eight or fewer\, please contact the Ruddy Duck at (541) 850-5582.\nFor larger parties and our family-style dining experience\, please email jennifer@runningy.com to reserve.
X-ALT-DESC;FMTTYPE=text/html:<!DOCTYPE html><html><head><title></title></head><body aria-disabled="false"><p data-end="300" data-start="104">We invite you to enjoy a special Mother&rsquo\;s Day brunch at the Ruddy Duck at Running Y Resort\, or a beautifully curated family-style dining experience in The Woodlands Ballroom for larger gatherings.</p><p data-end="388" data-start="302">Reservations are required\, and we encourage booking in advance to ensure availability.</p><p data-end="589" data-start="390">For brunch reservations of eight or fewer\, please contact the Ruddy Duck at (541) 850-5582.<br data-start="481" data-end="484">For larger parties and our family-style dining experience\, please email <a data-end="577" data-start="556" fr-original-style="" rel="noopener" style="user-select: auto\;">jennifer@runningy.com</a> to reserve.</p></body></html>
LOCATION:
UID:e.2226.1446453
SEQUENCE:3
DTSTAMP:20260420T112153Z
URL:https://business.klamath.org/events/Details/mother-s-day-brunch-at-running-y-resort-1713184?sourceTypeId=Hub
END:VEVENT
END:VCALENDAR
