BEGIN:VCALENDAR
VERSION:2.0
PRODID:-//ChamberMaster//Event Calendar 2.0//EN
METHOD:PUBLISH
X-PUBLISHED-TTL:P1H
REFRESH-INTERVAL:P1H
CALSCALE:GREGORIAN
BEGIN:VTIMEZONE
TZID:America/Los_Angeles
BEGIN:DAYLIGHT
RRULE:FREQ=YEARLY;BYMONTH=3;BYDAY=2SU
DTSTART:20070101T000000
TZOFFSETFROM:-0800
TZOFFSETTO:-0700
TZNAME:Pacific Daylight Time
END:DAYLIGHT
BEGIN:STANDARD
RRULE:FREQ=YEARLY;BYMONTH=11;BYDAY=1SU
DTSTART:20070101T000000
TZOFFSETFROM:-0700
TZOFFSETTO:-0800
TZNAME:Pacific Standard Time
END:STANDARD
END:VTIMEZONE
BEGIN:VEVENT
DTSTART;VALUE=DATE:20260504
DTEND;VALUE=DATE:20260505
TRANSP:TRANSPARENT
X-MICROSOFT-CDO-ALLDAYEVENT:TRUE
SUMMARY:Mothers Day Touring Event @ Crystal Terrace
DESCRIPTION:Come and take a tour at Crystal Terrace Senior living\, the week of May 4th-8th from 9:00AM-4:30PM and receive a free Mothers Day gift basket.Please call to schedule your tour\, we can't wait to see you! 541-885-7250Crystal Terrace Senior Living 1000 Town Center Drive\, Klamath Falls OR 97601Brieauna Nordin- Director of SalesBrieaunaNordin@mbk.com
X-ALT-DESC;FMTTYPE=text/html:<!DOCTYPE html><html><head><title></title></head><body aria-disabled="false"><p>Come and take a tour at Crystal Terrace Senior living\, the week of May 4th-8th from 9:00AM-4:30PM and receive a free Mothers Day gift basket.</p><p>Please call to schedule your tour\, we can&#39\;t wait to see you! 541-885-7250</p><p>Crystal Terrace Senior Living 1000 Town Center Drive\, Klamath Falls OR 97601</p><p>Brieauna Nordin- Director of Sales</p><p>BrieaunaNordin@mbk.com</p><p><br></p></body></html>
LOCATION:
UID:e.2226.1447589
SEQUENCE:3
DTSTAMP:20260421T080037Z
URL:https://business.klamath.org/events/Details/mothers-day-touring-event-crystal-terrace-1714530?sourceTypeId=Hub
END:VEVENT
END:VCALENDAR
