BEGIN:VCALENDAR
VERSION:2.0
PRODID:-//ChamberMaster//Event Calendar 2.0//EN
METHOD:PUBLISH
X-PUBLISHED-TTL:P1H
REFRESH-INTERVAL:P1H
CALSCALE:GREGORIAN
BEGIN:VTIMEZONE
TZID:America/Los_Angeles
BEGIN:DAYLIGHT
RRULE:FREQ=YEARLY;BYMONTH=3;BYDAY=2SU
DTSTART:20070101T000000
TZOFFSETFROM:-0800
TZOFFSETTO:-0700
TZNAME:Pacific Daylight Time
END:DAYLIGHT
BEGIN:STANDARD
RRULE:FREQ=YEARLY;BYMONTH=11;BYDAY=1SU
DTSTART:20070101T000000
TZOFFSETFROM:-0700
TZOFFSETTO:-0800
TZNAME:Pacific Standard Time
END:STANDARD
END:VTIMEZONE
BEGIN:VEVENT
DTSTART;TZID=America/Los_Angeles:20260418T130000
DTEND;TZID=America/Los_Angeles:20260418T143000
X-MICROSOFT-CDO-ALLDAYEVENT:FALSE
SUMMARY:Online 9D Breathwork Zoom Session
DESCRIPTION:Come breathe on Zoom this Saturday\, April 18th\, 1PM PST!  We're doing "The Relational Field".  If you struggle with withdrawing during conflict\, lashing out to avoid pain\, or "self-abandoning" by not speaking your truth\, The Relational Field offers a sacred laboratory to dismantle these survival strategies. It is for the brave soul ready to take 100% responsibility for the "repair" and move from a state of protection to a state of profound\, vulnerable connection.  Sign up here: https://www.shipshapesystems.com/OnlineBreathworkZooms  Looking forward to seeing you there!
X-ALT-DESC;FMTTYPE=text/html:Come breathe on Zoom this Saturday\, April 18th\, 1PM PST!  We're doing "The Relational Field".  If you struggle with withdrawing during conflict\, lashing out to avoid pain\, or "self-abandoning" by not speaking your truth\, The Relational Field offers a sacred laboratory to dismantle these survival strategies. It is for the brave soul ready to take 100% responsibility for the "repair" and move from a state of protection to a state of profound\, vulnerable connection.  Sign up here: https://www.shipshapesystems.com/OnlineBreathworkZooms  Looking forward to seeing you there!
LOCATION:
UID:e.2226.1445523
SEQUENCE:3
DTSTAMP:20260426T004348Z
URL:https://business.klamath.org/events/Details/online-9d-breathwork-zoom-session-1712138?sourceTypeId=Hub
END:VEVENT
END:VCALENDAR
