BEGIN:VCALENDAR
VERSION:2.0
PRODID:-//ChamberMaster//Event Calendar 2.0//EN
METHOD:PUBLISH
X-PUBLISHED-TTL:P1H
REFRESH-INTERVAL:P1H
CALSCALE:GREGORIAN
BEGIN:VTIMEZONE
TZID:America/Los_Angeles
BEGIN:DAYLIGHT
RRULE:FREQ=YEARLY;BYMONTH=3;BYDAY=2SU
DTSTART:20070101T000000
TZOFFSETFROM:-0800
TZOFFSETTO:-0700
TZNAME:Pacific Daylight Time
END:DAYLIGHT
BEGIN:STANDARD
RRULE:FREQ=YEARLY;BYMONTH=11;BYDAY=1SU
DTSTART:20070101T000000
TZOFFSETFROM:-0700
TZOFFSETTO:-0800
TZNAME:Pacific Standard Time
END:STANDARD
END:VTIMEZONE
BEGIN:VEVENT
DTSTART;TZID=America/Los_Angeles:20260508T090000
DTEND;TZID=America/Los_Angeles:20260508T090000
X-MICROSOFT-CDO-ALLDAYEVENT:FALSE
SUMMARY:Ribbon cutting for Honey & Ivy Collective!
DESCRIPTION:Let's celebrate the opening of Honey & Ivy Collective with a ribbon cutting! Ribbon cutting will be held at 9:00 am and then check out their cute store!
X-ALT-DESC;FMTTYPE=text/html:<!DOCTYPE html><html><head><title></title></head><body aria-disabled="false"><p>Let&#39\;s celebrate the opening of Honey &amp\; Ivy Collective with a ribbon cutting! Ribbon cutting will be held at 9:00 am and then check out their cute store!</p></body></html>
LOCATION:1925 Austin Street Klamath Falls OR 97603
UID:e.2226.1447591
SEQUENCE:3
DTSTAMP:20260421T080020Z
URL:https://business.klamath.org/events/Details/ribbon-cutting-for-honey-ivy-collective-1714532?sourceTypeId=Hub
END:VEVENT
END:VCALENDAR
